BEGIN:VCALENDAR
VERSION:2.0
PRODID:-//Library Market//iCal Export//EN
BEGIN:VEVENT
SUMMARY:Presentation
UID:13009
DTSTAMP:20260424T121100Z
DTSTART:20260425T193000Z
DTEND:20260425T203000Z
LOCATION:271 Southgate Shopping Center, Culpeper, VA 22701, United States
ROOM: Conference Room
DESCRIPTION:To give a 5-7 minute presentation for a college course
URL:https://www.cclva.org/event/presentation-13009
END:VEVENT
END:VCALENDAR
