BEGIN:VCALENDAR
VERSION:2.0
PRODID:-//Library Market//iCal Export//EN
BEGIN:VEVENT
SUMMARY:Private Improv Rehearsal
UID:13042
DTSTAMP:20260424T121100Z
DTSTART:20260429T190000Z
DTEND:20260429T203000Z
LOCATION:271 Southgate Shopping Center, Culpeper, VA 22701, United States
ROOM: Community Room
DESCRIPTION:We are an improv troupe of two called SET THE SCENE and we nee
 d a large area to practice. We&#039;ve done a rehearsal before there in th
 e Community Room, but I want to make sure it&#039;s okay for us to rehears
 e as a private closed event, not a public one. If you are worried about th
 e noise issue, we were pretty loud before and none one seemed to be bother
 ed, so I don&#039;t think we&#039;ll disturb anyone. We don&#039;t have ma
 ny options for rehearsal space, so this would work great for whenever we c
 an&#039;t rehearse at home. If it&#039;s against guidelines for the rooms,
  then that&#039;s fine and we can find somewhere else eventually. Thank yo
 u!
URL:https://www.cclva.org/event/private-improv-rehearsal-13042
END:VEVENT
END:VCALENDAR
